BEGIN:VCALENDAR
VERSION:2.0
BEGIN:VEVENT
UID:229B520B-F7D5-4606-95C8-11FD8715999D
DTSTART:20231216T184500Z
DTEND:20231216T204500Z
SUMMARY:Flixmas: Elf
DESCRIPTION:Don't miss this Flixmas mainstay! Secure your name on Santa's n
 ice list and see ELF for it's 20th anniversary! \n https://www.flixbrewhou
 se.com/film-info/elf-20th-anniversary\nFlix Brewhouse\n416 U.S. 287 Fronta
 ge Rd\nMansfield\, TX 76063 United States\n
LOCATION:416 U.S. 287 Frontage Rd\, Mansfield\, TX 76063
URL:http://mansfield.bubblelife.com/community/flix_brewhouse/library/351711
 2941/key/3511086771/Flixmas_Elf
CREATED:20231114T154458Z
LAST-MODIFIED:20231114T154458Z
DTSTAMP:20260422T173753Z
CLASS:PUBLIC
STATUS:CONFIRMED
TRANSP:TRANSPARENT
SEQUENCE:1
END:VEVENT
END:VCALENDAR
